BEGIN:VCALENDAR
VERSION:2.0
PRODID:-//St. Donatus Schützengesellschaft Brand 1834 e.V. - ECPv6.15.20//NONSGML v1.0//EN
CALSCALE:GREGORIAN
METHOD:PUBLISH
X-ORIGINAL-URL:https://www.donatus-schuetzen-brand.de
X-WR-CALDESC:Veranstaltungen für St. Donatus Schützengesellschaft Brand 1834 e.V.
REFRESH-INTERVAL;VALUE=DURATION:PT1H
X-Robots-Tag:noindex
X-PUBLISHED-TTL:PT1H
BEGIN:VTIMEZONE
TZID:Europe/Berlin
BEGIN:DAYLIGHT
TZOFFSETFROM:+0100
TZOFFSETTO:+0200
TZNAME:CEST
DTSTART:20250330T010000
END:DAYLIGHT
BEGIN:STANDARD
TZOFFSETFROM:+0200
TZOFFSETTO:+0100
TZNAME:CET
DTSTART:20251026T010000
END:STANDARD
BEGIN:DAYLIGHT
TZOFFSETFROM:+0100
TZOFFSETTO:+0200
TZNAME:CEST
DTSTART:20260329T010000
END:DAYLIGHT
BEGIN:STANDARD
TZOFFSETFROM:+0200
TZOFFSETTO:+0100
TZNAME:CET
DTSTART:20261025T010000
END:STANDARD
BEGIN:DAYLIGHT
TZOFFSETFROM:+0100
TZOFFSETTO:+0200
TZNAME:CEST
DTSTART:20270328T010000
END:DAYLIGHT
BEGIN:STANDARD
TZOFFSETFROM:+0200
TZOFFSETTO:+0100
TZNAME:CET
DTSTART:20271031T010000
END:STANDARD
END:VTIMEZONE
BEGIN:VEVENT
DTSTART;TZID=Europe/Berlin:20261104T180000
DTEND;TZID=Europe/Berlin:20261104T220000
DTSTAMP:20260424T043716
CREATED:20240327T134602Z
LAST-MODIFIED:20260325T141401Z
UID:450-1793815200-1793829600@www.donatus-schuetzen-brand.de
SUMMARY:Martinswanderung und Grünkohlessen
DESCRIPTION:ohne Schieß-Training
URL:https://www.donatus-schuetzen-brand.de/event/martinswanderung/
LOCATION:Vereinsheim\, Rombachstr. 3\, Aachen-Brand\, 52078\, Deutschland
END:VEVENT
BEGIN:VEVENT
DTSTART;TZID=Europe/Berlin:20261115T110000
DTEND;TZID=Europe/Berlin:20261115T113000
DTSTAMP:20260424T043716
CREATED:20240327T134724Z
LAST-MODIFIED:20260401T182907Z
UID:452-1794740400-1794742200@www.donatus-schuetzen-brand.de
SUMMARY:Volkstrauertag
DESCRIPTION:Treffen 11 Uhr Ehrenmal
URL:https://www.donatus-schuetzen-brand.de/event/volkstrauertag/
LOCATION:Ehrenmal
END:VEVENT
BEGIN:VEVENT
DTSTART;TZID=Europe/Berlin:20261121T200000
DTEND;TZID=Europe/Berlin:20261121T233000
DTSTAMP:20260424T043716
CREATED:20240327T134827Z
LAST-MODIFIED:20260325T145343Z
UID:455-1795291200-1795303800@www.donatus-schuetzen-brand.de
SUMMARY:Ball St. Katharina Schützenbruderschaft
DESCRIPTION: 
URL:https://www.donatus-schuetzen-brand.de/event/koenigsball-st-katharina/
LOCATION:Saalbau Kommer
END:VEVENT
END:VCALENDAR