BEGIN:VCALENDAR
VERSION:2.0
PRODID:-//St. Donatus Schützengesellschaft Brand 1834 e.V. - ECPv6.15.20//NONSGML v1.0//EN
CALSCALE:GREGORIAN
METHOD:PUBLISH
X-ORIGINAL-URL:https://www.donatus-schuetzen-brand.de
X-WR-CALDESC:Veranstaltungen für St. Donatus Schützengesellschaft Brand 1834 e.V.
REFRESH-INTERVAL;VALUE=DURATION:PT1H
X-Robots-Tag:noindex
X-PUBLISHED-TTL:PT1H
BEGIN:VTIMEZONE
TZID:Europe/Berlin
BEGIN:DAYLIGHT
TZOFFSETFROM:+0100
TZOFFSETTO:+0200
TZNAME:CEST
DTSTART:20250330T010000
END:DAYLIGHT
BEGIN:STANDARD
TZOFFSETFROM:+0200
TZOFFSETTO:+0100
TZNAME:CET
DTSTART:20251026T010000
END:STANDARD
BEGIN:DAYLIGHT
TZOFFSETFROM:+0100
TZOFFSETTO:+0200
TZNAME:CEST
DTSTART:20260329T010000
END:DAYLIGHT
BEGIN:STANDARD
TZOFFSETFROM:+0200
TZOFFSETTO:+0100
TZNAME:CET
DTSTART:20261025T010000
END:STANDARD
BEGIN:DAYLIGHT
TZOFFSETFROM:+0100
TZOFFSETTO:+0200
TZNAME:CEST
DTSTART:20270328T010000
END:DAYLIGHT
BEGIN:STANDARD
TZOFFSETFROM:+0200
TZOFFSETTO:+0100
TZNAME:CET
DTSTART:20271031T010000
END:STANDARD
END:VTIMEZONE
BEGIN:VEVENT
DTSTART;TZID=Europe/Berlin:20260919T150000
DTEND;TZID=Europe/Berlin:20260919T220000
DTSTAMP:20260424T014719
CREATED:20251220T110427Z
LAST-MODIFIED:20260401T182430Z
UID:5484-1789830000-1789855200@www.donatus-schuetzen-brand.de
SUMMARY:Sommerfest
DESCRIPTION:
URL:https://www.donatus-schuetzen-brand.de/event/sommerfest/
LOCATION:Vereinsheim\, Rombachstr. 3\, Aachen-Brand\, 52078\, Deutschland
ATTACH;FMTTYPE=image/jpeg:https://www.donatus-schuetzen-brand.de/wp-content/uploads/2024/03/V-Sommerfest.jpg
END:VEVENT
END:VCALENDAR