BEGIN:VCALENDAR
VERSION:2.0
PRODID:-//St. Donatus Schützengesellschaft Brand 1834 e.V. - ECPv6.15.20//NONSGML v1.0//EN
CALSCALE:GREGORIAN
METHOD:PUBLISH
X-ORIGINAL-URL:https://www.donatus-schuetzen-brand.de
X-WR-CALDESC:Veranstaltungen für St. Donatus Schützengesellschaft Brand 1834 e.V.
REFRESH-INTERVAL;VALUE=DURATION:PT1H
X-Robots-Tag:noindex
X-PUBLISHED-TTL:PT1H
BEGIN:VTIMEZONE
TZID:Europe/Berlin
BEGIN:DAYLIGHT
TZOFFSETFROM:+0100
TZOFFSETTO:+0200
TZNAME:CEST
DTSTART:20250330T010000
END:DAYLIGHT
BEGIN:STANDARD
TZOFFSETFROM:+0200
TZOFFSETTO:+0100
TZNAME:CET
DTSTART:20251026T010000
END:STANDARD
BEGIN:DAYLIGHT
TZOFFSETFROM:+0100
TZOFFSETTO:+0200
TZNAME:CEST
DTSTART:20260329T010000
END:DAYLIGHT
BEGIN:STANDARD
TZOFFSETFROM:+0200
TZOFFSETTO:+0100
TZNAME:CET
DTSTART:20261025T010000
END:STANDARD
BEGIN:DAYLIGHT
TZOFFSETFROM:+0100
TZOFFSETTO:+0200
TZNAME:CEST
DTSTART:20270328T010000
END:DAYLIGHT
BEGIN:STANDARD
TZOFFSETFROM:+0200
TZOFFSETTO:+0100
TZNAME:CET
DTSTART:20271031T010000
END:STANDARD
END:VTIMEZONE
BEGIN:VEVENT
DTSTART;VALUE=DATE:20260704
DTEND;VALUE=DATE:20260706
DTSTAMP:20260423T224638
CREATED:20251219T122034Z
LAST-MODIFIED:20260401T181827Z
UID:5472-1783123200-1783295999@www.donatus-schuetzen-brand.de
SUMMARY:Schützenfest Niederforstbach
DESCRIPTION:
URL:https://www.donatus-schuetzen-brand.de/event/schuetzenfest-niederforstbach/
LOCATION:Niederforstbach\, Münsterstraße\, 52076 Aachen\, Deutschland\, Schützenwiese unterhalb des Tuchmacherviertels
ATTACH;FMTTYPE=image/jpeg:https://www.donatus-schuetzen-brand.de/wp-content/uploads/2025/12/V-St.Vincenz.jpg
END:VEVENT
BEGIN:VEVENT
DTSTART;TZID=Europe/Berlin:20260707T170000
DTEND;TZID=Europe/Berlin:20260707T220000
DTSTAMP:20260423T224639
CREATED:20260325T140512Z
LAST-MODIFIED:20260401T182040Z
UID:5702-1783443600-1783461600@www.donatus-schuetzen-brand.de
SUMMARY:Grillen bei Hilde
DESCRIPTION:Die Wanderer treffen sich um 15 Uhr am REWE. Rückmeldung an Manfred für die\, die mitwandern.
URL:https://www.donatus-schuetzen-brand.de/event/grillen-bei-hilde/
LOCATION:Stolberg\, / Büsbach
ATTACH;FMTTYPE=image/jpeg:https://www.donatus-schuetzen-brand.de/wp-content/uploads/2026/03/V-Grillen.jpg
END:VEVENT
BEGIN:VEVENT
DTSTART;TZID=Europe/Berlin:20260712T110000
DTEND;TZID=Europe/Berlin:20260712T180000
DTSTAMP:20260423T224639
CREATED:20240327T132930Z
LAST-MODIFIED:20260401T182126Z
UID:420-1783854000-1783879200@www.donatus-schuetzen-brand.de
SUMMARY:Pfarrfest St. Donatus
DESCRIPTION:
URL:https://www.donatus-schuetzen-brand.de/event/pfarrfest-st-donatus/
LOCATION:St. Donatus Kirche\, Aachen-Brand
ATTACH;FMTTYPE=image/jpeg:https://www.donatus-schuetzen-brand.de/wp-content/uploads/2024/03/V-Pfarrfest-Donatus.jpg
END:VEVENT
BEGIN:VEVENT
DTSTART;VALUE=DATE:20260718
DTEND;VALUE=DATE:20260719
DTSTAMP:20260423T224639
CREATED:20260325T140916Z
LAST-MODIFIED:20260325T140916Z
UID:5704-1784332800-1784419199@www.donatus-schuetzen-brand.de
SUMMARY:Sommerfest der Feuerwehr
DESCRIPTION:
URL:https://www.donatus-schuetzen-brand.de/event/sommerfest-der-feuerwehr/
LOCATION:Gerätehaus der FW\, Paul-Küpper-Platz 1\, Aachen\, 52078
ATTACH;FMTTYPE=image/png:https://www.donatus-schuetzen-brand.de/wp-content/uploads/2025/01/V-Loeschzug-Brand.png
END:VEVENT
BEGIN:VEVENT
DTSTART;TZID=Europe/Berlin:20260718T200000
DTEND;TZID=Europe/Berlin:20260718T235900
DTSTAMP:20260423T224639
CREATED:20260325T140037Z
LAST-MODIFIED:20260402T081420Z
UID:4854-1784404800-1784419140@www.donatus-schuetzen-brand.de
SUMMARY:Schützenfest St. Georg Schützenbruderschaft
DESCRIPTION:
URL:https://www.donatus-schuetzen-brand.de/event/schuetzenfest-freund/
LOCATION:Freund\, Freunder Heidweg 3a\, Aachen
END:VEVENT
BEGIN:VEVENT
DTSTART;VALUE=DATE:20260731
DTEND;VALUE=DATE:20260803
DTSTAMP:20260423T224639
CREATED:20260401T183459Z
LAST-MODIFIED:20260401T183459Z
UID:5774-1785456000-1785715199@www.donatus-schuetzen-brand.de
SUMMARY:Schützenfest  St. Sebastianus Schützenbruderschaft Krauthausen 1682 e.V.
DESCRIPTION:Schützenball am Samstag 01. August um 20 Uhr
URL:https://www.donatus-schuetzen-brand.de/event/schuetzenfest-st-sebastianus-schuetzenbruderschaft-krauthausen-1682-e-v/
LOCATION:Krautausen\, Krauthausener Str. 45\, Krauthausen\, 52076
END:VEVENT
END:VCALENDAR