BEGIN:VCALENDAR
VERSION:2.0
PRODID:-//St. Donatus Schützengesellschaft Brand 1834 e.V. - ECPv6.15.20//NONSGML v1.0//EN
CALSCALE:GREGORIAN
METHOD:PUBLISH
X-ORIGINAL-URL:https://www.donatus-schuetzen-brand.de
X-WR-CALDESC:Veranstaltungen für St. Donatus Schützengesellschaft Brand 1834 e.V.
REFRESH-INTERVAL;VALUE=DURATION:PT1H
X-Robots-Tag:noindex
X-PUBLISHED-TTL:PT1H
BEGIN:VTIMEZONE
TZID:Europe/Berlin
BEGIN:DAYLIGHT
TZOFFSETFROM:+0100
TZOFFSETTO:+0200
TZNAME:CEST
DTSTART:20250330T010000
END:DAYLIGHT
BEGIN:STANDARD
TZOFFSETFROM:+0200
TZOFFSETTO:+0100
TZNAME:CET
DTSTART:20251026T010000
END:STANDARD
BEGIN:DAYLIGHT
TZOFFSETFROM:+0100
TZOFFSETTO:+0200
TZNAME:CEST
DTSTART:20260329T010000
END:DAYLIGHT
BEGIN:STANDARD
TZOFFSETFROM:+0200
TZOFFSETTO:+0100
TZNAME:CET
DTSTART:20261025T010000
END:STANDARD
BEGIN:DAYLIGHT
TZOFFSETFROM:+0100
TZOFFSETTO:+0200
TZNAME:CEST
DTSTART:20270328T010000
END:DAYLIGHT
BEGIN:STANDARD
TZOFFSETFROM:+0200
TZOFFSETTO:+0100
TZNAME:CET
DTSTART:20271031T010000
END:STANDARD
END:VTIMEZONE
BEGIN:VEVENT
DTSTART;TZID=Europe/Berlin:20260603T183000
DTEND;TZID=Europe/Berlin:20260603T210000
DTSTAMP:20260423T212314
CREATED:20260325T134407Z
LAST-MODIFIED:20260325T134735Z
UID:5692-1780511400-1780520400@www.donatus-schuetzen-brand.de
SUMMARY:Prinzenschießen
DESCRIPTION:Im Wettkampf werden unsere Jungschützen mit dem Lichtgewehr um die Ehre des Schützenprinzen oder der Schützenprinzessin kämpfen.
URL:https://www.donatus-schuetzen-brand.de/event/prinzenschiessen-2026/
LOCATION:Vereinsheim\, Rombachstr. 3\, Aachen-Brand\, 52078\, Deutschland
END:VEVENT
BEGIN:VEVENT
DTSTART;TZID=Europe/Berlin:20260604T110000
DTEND;TZID=Europe/Berlin:20260604T130000
DTSTAMP:20260423T212314
CREATED:20260325T130504Z
LAST-MODIFIED:20260401T181133Z
UID:399-1780570800-1780578000@www.donatus-schuetzen-brand.de
SUMMARY:Fronleichnam
DESCRIPTION:Treffen 11 Uhr Kirchenvorplatz
URL:https://www.donatus-schuetzen-brand.de/event/fronleichnam/
LOCATION:St. Donatus Kirche\, Aachen-Brand
END:VEVENT
BEGIN:VEVENT
DTSTART;TZID=Europe/Berlin:20260605T190000
DTEND;TZID=Europe/Berlin:20260606T010000
DTSTAMP:20260423T212314
CREATED:20251218T184138Z
LAST-MODIFIED:20260401T181233Z
UID:5459-1780686000-1780707600@www.donatus-schuetzen-brand.de
SUMMARY:Startschussparty
DESCRIPTION:zu Ehren der Prinzessin Magdalena Dietz
URL:https://www.donatus-schuetzen-brand.de/event/startschussfeier-2/
LOCATION:Vereinsheim\, Rombachstr. 3\, Aachen-Brand\, 52078\, Deutschland
ATTACH;FMTTYPE=image/jpeg:https://www.donatus-schuetzen-brand.de/wp-content/uploads/2025/12/V-Startschussfeier.jpg
END:VEVENT
BEGIN:VEVENT
DTSTART;TZID=Europe/Berlin:20260606T163000
DTEND;TZID=Europe/Berlin:20260607T000000
DTSTAMP:20260423T212314
CREATED:20251218T184856Z
LAST-MODIFIED:20260325T135201Z
UID:5462-1780763400-1780790400@www.donatus-schuetzen-brand.de
SUMMARY:Umtrunk\, Festzug\, Schützenball
DESCRIPTION:16:30 Uhr – Treffen\n17:30 Uhr – Abmarsch zur Kirche\n18:00 Uhr – Kirche / anschließend Kranzniederlegung\n20:00 Uhr – Schützenball
URL:https://www.donatus-schuetzen-brand.de/event/umtrunk-festzug-schuetzenball/
LOCATION:Vereinsheim\, Rombachstr. 3\, Aachen-Brand\, 52078\, Deutschland
ATTACH;FMTTYPE=image/jpeg:https://www.donatus-schuetzen-brand.de/wp-content/uploads/2024/03/IMG_3095.jpg
END:VEVENT
BEGIN:VEVENT
DTSTART;VALUE=DATE:20260607
DTEND;VALUE=DATE:20260608
DTSTAMP:20260423T212314
CREATED:20251218T185040Z
LAST-MODIFIED:20260325T135540Z
UID:5464-1780790400-1780876799@www.donatus-schuetzen-brand.de
SUMMARY:Festzug zum Schießstand hinter St. Donatus
DESCRIPTION:12:00 Uhr – Treffen\n12:15 Uhr – Abmarsch zum Außenschießstand\n12:30 Uhr Schießen König/in / Jedermann ggfs. König der Könige
URL:https://www.donatus-schuetzen-brand.de/event/festzug-zum-schiessstand-hinter-st-donatus-2/
ATTACH;FMTTYPE=image/jpeg:https://www.donatus-schuetzen-brand.de/wp-content/uploads/2024/03/V-Schuetzenfest-2.jpg
END:VEVENT
BEGIN:VEVENT
DTSTART;TZID=Europe/Berlin:20260621T150000
DTEND;TZID=Europe/Berlin:20260621T180000
DTSTAMP:20260423T212314
CREATED:20251218T190109Z
LAST-MODIFIED:20260401T181425Z
UID:5466-1782054000-1782064800@www.donatus-schuetzen-brand.de
SUMMARY:evangelisches Gemeindefest
DESCRIPTION:
URL:https://www.donatus-schuetzen-brand.de/event/evangelisches-gemeindfest/
LOCATION:Martin-Luther-Kirche\, Hermann-Löns-Straße 31\, Aachen\, 52078
ATTACH;FMTTYPE=image/png:https://www.donatus-schuetzen-brand.de/wp-content/uploads/2025/12/V-Evang.Gemeindefest.png
END:VEVENT
END:VCALENDAR