BEGIN:VCALENDAR
VERSION:2.0
PRODID:-//St. Donatus Schützengesellschaft Brand 1834 e.V. - ECPv6.15.20//NONSGML v1.0//EN
CALSCALE:GREGORIAN
METHOD:PUBLISH
X-WR-CALNAME:St. Donatus Schützengesellschaft Brand 1834 e.V.
X-ORIGINAL-URL:https://www.donatus-schuetzen-brand.de
X-WR-CALDESC:Veranstaltungen für St. Donatus Schützengesellschaft Brand 1834 e.V.
REFRESH-INTERVAL;VALUE=DURATION:PT1H
X-Robots-Tag:noindex
X-PUBLISHED-TTL:PT1H
BEGIN:VTIMEZONE
TZID:Europe/Berlin
BEGIN:DAYLIGHT
TZOFFSETFROM:+0100
TZOFFSETTO:+0200
TZNAME:CEST
DTSTART:20250330T010000
END:DAYLIGHT
BEGIN:STANDARD
TZOFFSETFROM:+0200
TZOFFSETTO:+0100
TZNAME:CET
DTSTART:20251026T010000
END:STANDARD
BEGIN:DAYLIGHT
TZOFFSETFROM:+0100
TZOFFSETTO:+0200
TZNAME:CEST
DTSTART:20260329T010000
END:DAYLIGHT
BEGIN:STANDARD
TZOFFSETFROM:+0200
TZOFFSETTO:+0100
TZNAME:CET
DTSTART:20261025T010000
END:STANDARD
BEGIN:DAYLIGHT
TZOFFSETFROM:+0100
TZOFFSETTO:+0200
TZNAME:CEST
DTSTART:20270328T010000
END:DAYLIGHT
BEGIN:STANDARD
TZOFFSETFROM:+0200
TZOFFSETTO:+0100
TZNAME:CET
DTSTART:20271031T010000
END:STANDARD
END:VTIMEZONE
BEGIN:VEVENT
DTSTART;TZID=Europe/Berlin:20260506T190000
DTEND;TZID=Europe/Berlin:20260506T230000
DTSTAMP:20260423T210243
CREATED:20260325T133944Z
LAST-MODIFIED:20260401T180945Z
UID:5686-1778094000-1778108400@www.donatus-schuetzen-brand.de
SUMMARY:Damenpokal
DESCRIPTION:Unsere Damen werden sich an diesem Tag im Schießen messen. Der Frauenpokal wird nach dem besten Schuss vergeben. \nAn diesem Tag findet kein Training statt!
URL:https://www.donatus-schuetzen-brand.de/event/frauenpokal/
LOCATION:Vereinsheim\, Rombachstr. 3\, Aachen-Brand\, 52078\, Deutschland
ATTACH;FMTTYPE=image/jpeg:https://www.donatus-schuetzen-brand.de/wp-content/uploads/2026/03/V-Damenpokal.jpg
END:VEVENT
BEGIN:VEVENT
DTSTART;VALUE=DATE:20260524
DTEND;VALUE=DATE:20260526
DTSTAMP:20260423T210243
CREATED:20260401T183741Z
LAST-MODIFIED:20260402T091706Z
UID:5777-1779580800-1779753599@www.donatus-schuetzen-brand.de
SUMMARY:Schützenfest St. Sebastianus Schützenbruderschaft Aachen-Hitfeld 1894 e.V.
DESCRIPTION:
URL:https://www.donatus-schuetzen-brand.de/event/schuetzenfest-st-sebastianus-schuetzenbruderschaft-aachen-hitfeld-1894-e-v/
LOCATION:Hitfeld\, Hitfelder Straße 77\, Aachen\, 52076
END:VEVENT
BEGIN:VEVENT
DTSTART;TZID=Europe/Berlin:20260530T200000
DTEND;TZID=Europe/Berlin:20260530T235900
DTSTAMP:20260423T210243
CREATED:20260325T125808Z
LAST-MODIFIED:20260402T090654Z
UID:395-1780171200-1780185540@www.donatus-schuetzen-brand.de
SUMMARY:Königsball Dreifaltigkeits-Schützenbruderschaft Nütheim-Schleckheim 1840 e.V.
DESCRIPTION: 
URL:https://www.donatus-schuetzen-brand.de/event/koenigsball-schleckheim/
LOCATION:Turnhalle Schleckheim\, Nerscheider Weg 175\, Aachen\, 52076
END:VEVENT
END:VCALENDAR