BEGIN:VCALENDAR
VERSION:2.0
PRODID:-//St. Donatus Schützengesellschaft Brand 1834 e.V. - ECPv6.15.20//NONSGML v1.0//EN
CALSCALE:GREGORIAN
METHOD:PUBLISH
X-ORIGINAL-URL:https://www.donatus-schuetzen-brand.de
X-WR-CALDESC:Veranstaltungen für St. Donatus Schützengesellschaft Brand 1834 e.V.
REFRESH-INTERVAL;VALUE=DURATION:PT1H
X-Robots-Tag:noindex
X-PUBLISHED-TTL:PT1H
BEGIN:VTIMEZONE
TZID:Europe/Berlin
BEGIN:DAYLIGHT
TZOFFSETFROM:+0100
TZOFFSETTO:+0200
TZNAME:CEST
DTSTART:20240331T010000
END:DAYLIGHT
BEGIN:STANDARD
TZOFFSETFROM:+0200
TZOFFSETTO:+0100
TZNAME:CET
DTSTART:20241027T010000
END:STANDARD
BEGIN:DAYLIGHT
TZOFFSETFROM:+0100
TZOFFSETTO:+0200
TZNAME:CEST
DTSTART:20250330T010000
END:DAYLIGHT
BEGIN:STANDARD
TZOFFSETFROM:+0200
TZOFFSETTO:+0100
TZNAME:CET
DTSTART:20251026T010000
END:STANDARD
BEGIN:DAYLIGHT
TZOFFSETFROM:+0100
TZOFFSETTO:+0200
TZNAME:CEST
DTSTART:20260329T010000
END:DAYLIGHT
BEGIN:STANDARD
TZOFFSETFROM:+0200
TZOFFSETTO:+0100
TZNAME:CET
DTSTART:20261025T010000
END:STANDARD
END:VTIMEZONE
BEGIN:VEVENT
DTSTART;TZID=Europe/Berlin:20251207T150000
DTEND;TZID=Europe/Berlin:20251207T200000
DTSTAMP:20260424T001711
CREATED:20240327T134935Z
LAST-MODIFIED:20250124T183813Z
UID:458-1765119600-1765137600@www.donatus-schuetzen-brand.de
SUMMARY:Nikolausfeier
DESCRIPTION:
URL:https://www.donatus-schuetzen-brand.de/event/nikolausfeier/
LOCATION:Vereinsheim\, Rombachstr. 3\, Aachen-Brand\, 52078\, Deutschland
END:VEVENT
END:VCALENDAR