BEGIN:VCALENDAR
VERSION:2.0
PRODID:-//St. Donatus Schützengesellschaft Brand 1834 e.V. - ECPv6.15.20//NONSGML v1.0//EN
CALSCALE:GREGORIAN
METHOD:PUBLISH
X-WR-CALNAME:St. Donatus Schützengesellschaft Brand 1834 e.V.
X-ORIGINAL-URL:https://www.donatus-schuetzen-brand.de
X-WR-CALDESC:Veranstaltungen für St. Donatus Schützengesellschaft Brand 1834 e.V.
REFRESH-INTERVAL;VALUE=DURATION:PT1H
X-Robots-Tag:noindex
X-PUBLISHED-TTL:PT1H
BEGIN:VTIMEZONE
TZID:Europe/Berlin
BEGIN:DAYLIGHT
TZOFFSETFROM:+0100
TZOFFSETTO:+0200
TZNAME:CEST
DTSTART:20240331T010000
END:DAYLIGHT
BEGIN:STANDARD
TZOFFSETFROM:+0200
TZOFFSETTO:+0100
TZNAME:CET
DTSTART:20241027T010000
END:STANDARD
BEGIN:DAYLIGHT
TZOFFSETFROM:+0100
TZOFFSETTO:+0200
TZNAME:CEST
DTSTART:20250330T010000
END:DAYLIGHT
BEGIN:STANDARD
TZOFFSETFROM:+0200
TZOFFSETTO:+0100
TZNAME:CET
DTSTART:20251026T010000
END:STANDARD
BEGIN:DAYLIGHT
TZOFFSETFROM:+0100
TZOFFSETTO:+0200
TZNAME:CEST
DTSTART:20260329T010000
END:DAYLIGHT
BEGIN:STANDARD
TZOFFSETFROM:+0200
TZOFFSETTO:+0100
TZNAME:CET
DTSTART:20261025T010000
END:STANDARD
END:VTIMEZONE
BEGIN:VEVENT
DTSTART;TZID=Europe/Berlin:20250614T190000
DTEND;TZID=Europe/Berlin:20250615T000000
DTSTAMP:20260424T083617
CREATED:20250124T120302Z
LAST-MODIFIED:20250124T173605Z
UID:4724-1749927600-1749945600@www.donatus-schuetzen-brand.de
SUMMARY:St. Katharina Schützen - Party für Junggebliebene
DESCRIPTION:
URL:https://www.donatus-schuetzen-brand.de/event/st-katharina-schuetzen-party-fuer-junggebliebene/
LOCATION:Saalbau Kommer
END:VEVENT
BEGIN:VEVENT
DTSTART;TZID=Europe/Berlin:20250620T190000
DTEND;TZID=Europe/Berlin:20250621T010000
DTSTAMP:20260424T083617
CREATED:20240327T130630Z
LAST-MODIFIED:20250519T143855Z
UID:402-1750446000-1750467600@www.donatus-schuetzen-brand.de
SUMMARY:Startschussfeier
DESCRIPTION:Wir beginnen am Freitag\, 20.06.2025 um 19 Uhr mit der Startschussfeier unter dem Motto „Pyjama-Party“ in unserem Vereinsheim für alle ab 16 Jahre.
URL:https://www.donatus-schuetzen-brand.de/event/startschussfeier/
LOCATION:Vereinsheim\, Rombachstr. 3\, Aachen-Brand\, 52078\, Deutschland
ATTACH;FMTTYPE=image/jpeg:https://www.donatus-schuetzen-brand.de/wp-content/uploads/2025/05/Startschuss-2025_Flyer.jpg
END:VEVENT
BEGIN:VEVENT
DTSTART;TZID=Europe/Berlin:20250621T154500
DTEND;TZID=Europe/Berlin:20250622T000000
DTSTAMP:20260424T083617
CREATED:20240327T131715Z
LAST-MODIFIED:20250512T111714Z
UID:411-1750520700-1750550400@www.donatus-schuetzen-brand.de
SUMMARY:Umtrunk\, Festzug\, Schützenball
DESCRIPTION:Am Samstag\, 21.06.2025 treffen wir uns um 15:45 Uhr an der Gaststätte Grief mit einem Zug zum Schützenheim mit musikalischer Begleitung des Trommler- und Pfeiferkorps Brand. \nNach einem kleinen Umtrunk startet der Festzug von dort um 17:30 Uhr mit dem Trommler- und Pfeiferkorps Brand zur Kranzniederlegung am Ehrenmal. \nNach dem anschließenden Gottesdienst (18:00 Uhr) in St. Donatus geht es wieder zurück zum Schützenheim\, Rombachstr. 3\, wo dann um 20:00 Uhr der Schützenball mit Jubilarehrung beginnt (Einlass ab 19:00 Uhr). Es findet keine Gratulationskur statt. Zum Tanz spielt Enjoy und die Troubadoure.
URL:https://www.donatus-schuetzen-brand.de/event/festzug-zum-schiessstand-hinter-st-donatus/
LOCATION:Vereinsheim\, Rombachstr. 3\, Aachen-Brand\, 52078\, Deutschland
ATTACH;FMTTYPE=image/jpeg:https://www.donatus-schuetzen-brand.de/wp-content/uploads/2024/03/IMG_3095.jpg
END:VEVENT
BEGIN:VEVENT
DTSTART;TZID=Europe/Berlin:20250622T140000
DTEND;TZID=Europe/Berlin:20250622T200000
DTSTAMP:20260424T083617
CREATED:20240327T130858Z
LAST-MODIFIED:20250512T111623Z
UID:404-1750600800-1750622400@www.donatus-schuetzen-brand.de
SUMMARY:Festzug zum Schießstand hinter St. Donatus
DESCRIPTION:Am Sonntag\, den 22.06.2025 treffen wir uns um 14:00 Uhr am Vereinsheim. Um 14:15 Uhr findet der Festzug zum Schießstand mit musikalischer Begleitung des Trommler- und Pfeiferkorps hinter St. Donatus statt.  \nAb 14:30 Uhr findet der Wettbewerb um die Königswürde und König der Könige statt.
URL:https://www.donatus-schuetzen-brand.de/event/umtrunk/
ATTACH;FMTTYPE=image/jpeg:https://www.donatus-schuetzen-brand.de/wp-content/uploads/2024/03/V-Schuetzenfest-2.jpg
END:VEVENT
BEGIN:VEVENT
DTSTART;VALUE=DATE:20250627
DTEND;VALUE=DATE:20250630
DTSTAMP:20260424T083617
CREATED:20250124T174359Z
LAST-MODIFIED:20250124T180725Z
UID:4743-1750982400-1751241599@www.donatus-schuetzen-brand.de
SUMMARY:Jubiläum Löschzug Feuerwehr Brand 125 Jahre
DESCRIPTION:
URL:https://www.donatus-schuetzen-brand.de/event/jubilaeum-loeschzug-feuerwehr-brand-125-jahre/
ATTACH;FMTTYPE=image/png:https://www.donatus-schuetzen-brand.de/wp-content/uploads/2025/01/V-Loeschzug-Brand.png
END:VEVENT
END:VCALENDAR